BEGIN:VCALENDAR
VERSION:2.0
PRODID:icalendar-ruby
CALSCALE:GREGORIAN
X-WR-TIMEZONE:Europe/Helsinki
BEGIN:VTIMEZONE
TZID:Europe/Helsinki
BEGIN:DAYLIGHT
DTSTART:20260329T040000
TZOFFSETFROM:+0200
TZOFFSETTO:+0300
RRULE:FREQ=YEARLY;BYDAY=-1SU;BYMONTH=3
TZNAME:EEST
END:DAYLIGHT
BEGIN:STANDARD
DTSTART:20261025T030000
TZOFFSETFROM:+0300
TZOFFSETTO:+0200
RRULE:FREQ=YEARLY;BYDAY=-1SU;BYMONTH=10
TZNAME:EET
END:STANDARD
END:VTIMEZONE
BEGIN:VEVENT
DTSTAMP:20260424T192939
UID:uita.myclub.fi-10333106
DTSTART;TZID=Europe/Helsinki:20260608T100000
DTEND;TZID=Europe/Helsinki:20260612T163000
DESCRIPTION:Uintia\, urheilua ja ulkoilua 7-12 -vuotiaille!\nKesäleiri on 
 viikon mittainen\, monipuolinen päiväleiri uima taitoisille lapsille\, j
 otka pystyvät toimimaan syvässä altaassa (noin 25 metrin uimataito). P
 äivittäin ohjelmaa on kuusi ja puoli tuntia jolloin uimme\, urheilemme u
 lkona ja nautimme kesästä kivassa porukassa. Leiri järjestetään Kaupi
 ssa sekä Kalevan uimahallilla ja niiden lähiliikuntapaikoilla.\nLeirivii
 kko maksaa 190 euroa/vko. Hinta sisältää 32\,5 tuntia ohjattua toiminta
 a\, vakuutuksen sekä päivittäisen maittavan lounaan Tampereen uintikesk
 uksella  \nLeiriohjelmaa päivittäin maanantaista perjantaihin klo 10.00-
 16.30. Valvottua vapaa-aikaa joka päivä 9.00-10.00. Tervetuloa sporttail
 emaan mukavassa porukassa\, rennolla meiningillä!\nLeiri toteutuu\, mikä
 li osallistujia on vähintään 15.  \nLeirille ilmoittautuminen on sitova
 . Jos peruutus tapahtuu alle viisi vuorokautta ennen leirin alkua\, veloit
 amme täyden maksun. Leirin peruminen on tämän jälkeen mahdollista vain
  lääkärintodistusta vastaan.  Leirin järjestäjästä (UiTa) johtumatt
 omasta syystä tapahtuva ohjaustunnin peruuntuminen ei oikeuta osallistumi
 smaksun palauttamiseen asiakkaalle eikä korvaavien ohjaustuntien järjest
 ämiseen. Ennalta arvaamaton tapahtuma voi olla esim. veden likaantuminen\
 , joka estää altaan käytön asiakkailta ja kurssilaisilta kyseisenä aj
 ankohtana. Pyrimme kuitenkin mahdollisuuksien mukaan järjestämään aina
  korvauskerran.  \nMikäli kyseessä on ylivoimainen este\, Force Majeure\
 , tai Uinti Tampere ry:stä riippumaton este järjestää harjoituksia\, l
 eirejä tai kilpailutapahtumia\, ei maksettuja harjoitus- ja osallistumism
 aksuja palauteta. Pakottavista syistä Uinti Tampere ry:llä on oikeus per
 uuttaa harjoitukset ja tapahtumat tai siirtää ne myöhempään ajankohta
 an.\n\nhttps://uita.myclub.fi/flow/events/10333106
LOCATION:Tampereen Uintikeskus (Kalevan uimahalli)\, Joukahaisenkatu 7\, 33
 540 TAMPERE
SEQUENCE:0
SUMMARY:Kesäleirit: Kesäleiri II - Uintikeskus - 8.6.-12.6.2025
URL;VALUE=URI:https://uita.myclub.fi/flow/events/10333106
END:VEVENT
END:VCALENDAR
